BEGIN:VCALENDAR
VERSION:2.0
PRODID:-//Carmel of Reno - ECPv6.15.20//NONSGML v1.0//EN
CALSCALE:GREGORIAN
METHOD:PUBLISH
X-ORIGINAL-URL:https://carmelofreno.com
X-WR-CALDESC:Events for Carmel of Reno
REFRESH-INTERVAL;VALUE=DURATION:PT1H
X-Robots-Tag:noindex
X-PUBLISHED-TTL:PT1H
BEGIN:VTIMEZONE
TZID:America/Los_Angeles
BEGIN:DAYLIGHT
TZOFFSETFROM:-0800
TZOFFSETTO:-0700
TZNAME:PDT
DTSTART:20250309T100000
END:DAYLIGHT
BEGIN:STANDARD
TZOFFSETFROM:-0700
TZOFFSETTO:-0800
TZNAME:PST
DTSTART:20251102T090000
END:STANDARD
BEGIN:DAYLIGHT
TZOFFSETFROM:-0800
TZOFFSETTO:-0700
TZNAME:PDT
DTSTART:20260308T100000
END:DAYLIGHT
BEGIN:STANDARD
TZOFFSETFROM:-0700
TZOFFSETTO:-0800
TZNAME:PST
DTSTART:20261101T090000
END:STANDARD
BEGIN:DAYLIGHT
TZOFFSETFROM:-0800
TZOFFSETTO:-0700
TZNAME:PDT
DTSTART:20270314T100000
END:DAYLIGHT
BEGIN:STANDARD
TZOFFSETFROM:-0700
TZOFFSETTO:-0800
TZNAME:PST
DTSTART:20271107T090000
END:STANDARD
END:VTIMEZONE
BEGIN:VEVENT
DTSTART;TZID=America/Los_Angeles:20260307T160000
DTEND;TZID=America/Los_Angeles:20260307T170000
DTSTAMP:20260423T095035
CREATED:20260211T213647Z
LAST-MODIFIED:20260211T213647Z
UID:10002545-1772899200-1772902800@carmelofreno.com
SUMMARY:Sacrament of Anointing the Sick in Mass
DESCRIPTION:Sacrament of Anointing of the Sick will be offered. \nLivestream will be available on the Carmel of Reno YouTube channel.
URL:https://carmelofreno.com/event/sacrament-of-anointing-the-sick-in-mass/
LOCATION:Carmel of Reno\, 1950 La Fond Drive\, Reno\, 89509\, United States
ATTACH;FMTTYPE=image/png:https://carmelofreno.com/wp-content/uploads/2026/02/Water-and-Clouds-by-Kelley-Mooneyham.png
ORGANIZER;CN="Carmel of Reno":MAILTO:office@carmelofreno.net
END:VEVENT
END:VCALENDAR