BEGIN:VCALENDAR
VERSION:2.0
PRODID:-//Carmel of Reno - ECPv6.15.20//NONSGML v1.0//EN
CALSCALE:GREGORIAN
METHOD:PUBLISH
X-WR-CALNAME:Carmel of Reno
X-ORIGINAL-URL:https://carmelofreno.com
X-WR-CALDESC:Events for Carmel of Reno
REFRESH-INTERVAL;VALUE=DURATION:PT1H
X-Robots-Tag:noindex
X-PUBLISHED-TTL:PT1H
BEGIN:VTIMEZONE
TZID:America/Los_Angeles
BEGIN:DAYLIGHT
TZOFFSETFROM:-0800
TZOFFSETTO:-0700
TZNAME:PDT
DTSTART:20250309T100000
END:DAYLIGHT
BEGIN:STANDARD
TZOFFSETFROM:-0700
TZOFFSETTO:-0800
TZNAME:PST
DTSTART:20251102T090000
END:STANDARD
BEGIN:DAYLIGHT
TZOFFSETFROM:-0800
TZOFFSETTO:-0700
TZNAME:PDT
DTSTART:20260308T100000
END:DAYLIGHT
BEGIN:STANDARD
TZOFFSETFROM:-0700
TZOFFSETTO:-0800
TZNAME:PST
DTSTART:20261101T090000
END:STANDARD
BEGIN:DAYLIGHT
TZOFFSETFROM:-0800
TZOFFSETTO:-0700
TZNAME:PDT
DTSTART:20270314T100000
END:DAYLIGHT
BEGIN:STANDARD
TZOFFSETFROM:-0700
TZOFFSETTO:-0800
TZNAME:PST
DTSTART:20271107T090000
END:STANDARD
END:VTIMEZONE
BEGIN:VEVENT
DTSTART;TZID=America/Los_Angeles:20260403T083000
DTEND;TZID=America/Los_Angeles:20260403T093000
DTSTAMP:20260425T102925
CREATED:20250225T174304Z
LAST-MODIFIED:20260127T210743Z
UID:10002033-1775205000-1775208600@carmelofreno.com
SUMMARY:Good Friday: Tenebrae
DESCRIPTION:Livestream for this liturgy will be available on the Carmel of Reno Youtube Channel. \nClick here for a Brief History of Tenebrae.
URL:https://carmelofreno.com/event/good-friday-tenebrae/
LOCATION:Carmel of Reno\, 1950 La Fond Drive\, Reno\, 89509\, United States
ATTACH;FMTTYPE=image/png:https://carmelofreno.com/wp-content/uploads/2025/02/good-friday-tenebrae.png
ORGANIZER;CN="Carmel of Reno":MAILTO:office@carmelofreno.net
END:VEVENT
BEGIN:VEVENT
DTSTART;TZID=America/Los_Angeles:20260403T150000
DTEND;TZID=America/Los_Angeles:20260403T160000
DTSTAMP:20260425T102925
CREATED:20250225T174510Z
LAST-MODIFIED:20260127T211056Z
UID:10002034-1775228400-1775232000@carmelofreno.com
SUMMARY:Good Friday Service
DESCRIPTION:Livestream for this liturgy will be available on the Carmel of Reno Youtube Channel.
URL:https://carmelofreno.com/event/good-friday-service/
LOCATION:Carmel of Reno\, 1950 La Fond Drive\, Reno\, 89509\, United States
ATTACH;FMTTYPE=image/jpeg:https://carmelofreno.com/wp-content/uploads/2025/02/Imagery-Chapel-Cross-SUNSET-cropped.jpg
ORGANIZER;CN="Carmel of Reno":MAILTO:office@carmelofreno.net
END:VEVENT
END:VCALENDAR